BEGIN:VCALENDAR
VERSION:2.0
PRODID:-//Alabama Mountain Lakes Tourist Association - ECPv6.15.20//NONSGML v1.0//EN
CALSCALE:GREGORIAN
METHOD:PUBLISH
X-ORIGINAL-URL:https://amla4tourism.com
X-WR-CALDESC:Events for Alabama Mountain Lakes Tourist Association
REFRESH-INTERVAL;VALUE=DURATION:PT1H
X-Robots-Tag:noindex
X-PUBLISHED-TTL:PT1H
BEGIN:VTIMEZONE
TZID:America/Chicago
BEGIN:DAYLIGHT
TZOFFSETFROM:-0600
TZOFFSETTO:-0500
TZNAME:CDT
DTSTART:20250309T080000
END:DAYLIGHT
BEGIN:STANDARD
TZOFFSETFROM:-0500
TZOFFSETTO:-0600
TZNAME:CST
DTSTART:20251102T070000
END:STANDARD
BEGIN:DAYLIGHT
TZOFFSETFROM:-0600
TZOFFSETTO:-0500
TZNAME:CDT
DTSTART:20260308T080000
END:DAYLIGHT
BEGIN:STANDARD
TZOFFSETFROM:-0500
TZOFFSETTO:-0600
TZNAME:CST
DTSTART:20261101T070000
END:STANDARD
BEGIN:DAYLIGHT
TZOFFSETFROM:-0600
TZOFFSETTO:-0500
TZNAME:CDT
DTSTART:20270314T080000
END:DAYLIGHT
BEGIN:STANDARD
TZOFFSETFROM:-0500
TZOFFSETTO:-0600
TZNAME:CST
DTSTART:20271107T070000
END:STANDARD
END:VTIMEZONE
BEGIN:VEVENT
DTSTART;TZID=America/Chicago:20260918T080000
DTEND;TZID=America/Chicago:20260918T170000
DTSTAMP:20260423T210216
CREATED:20260209T220944Z
LAST-MODIFIED:20260209T220944Z
UID:5110-1789718400-1789750800@amla4tourism.com
SUMMARY:Unleash Your Workforce: The 4-Step HR Advantage
DESCRIPTION:Step 3: Employee Engagement & Retention \nJoin AMLA’s Director of Workforce Development Craig Johnston where he will discuss the skill of coaching to expectation and performance\, specifically to help build career paths for team members through dedicated work\, team loyalty\, and motivational rewards and recognition.
URL:https://amla4tourism.com/event/unleash-your-workforce-the-4-step-hr-advantage-3/
ORGANIZER;CN="Alabama Mountain Lakes Tourist Association":MAILTO:karen@northalabama.org
END:VEVENT
BEGIN:VEVENT
DTSTART;TZID=America/Chicago:20260918T100000
DTEND;TZID=America/Chicago:20260918T110000
DTSTAMP:20260423T210216
CREATED:20260130T225458Z
LAST-MODIFIED:20260209T210720Z
UID:5081-1789725600-1789729200@amla4tourism.com
SUMMARY:Let's Talk Accessibility
DESCRIPTION:Join AMLA’s Workforce Development Director Craig Johnston for a webinar on understanding accessibility and what it looks\, sounds and/or feels like.
URL:https://amla4tourism.com/event/lets-talk-accessibility-8/
ORGANIZER;CN="Alabama Mountain Lakes Tourist Association":MAILTO:karen@northalabama.org
END:VEVENT
BEGIN:VEVENT
DTSTART;TZID=America/Chicago:20260924T090000
DTEND;TZID=America/Chicago:20260924T170000
DTSTAMP:20260423T210216
CREATED:20260130T163025Z
LAST-MODIFIED:20260130T163121Z
UID:5016-1790240400-1790269200@amla4tourism.com
SUMMARY:Annual Meeting
DESCRIPTION:
URL:https://amla4tourism.com/event/annual-meeting-3/
LOCATION:DoubleTree by Hilton Hotel\, 1101 6th Avenue NE\, Decatur\, AL\, 35601\, United States
END:VEVENT
END:VCALENDAR