BEGIN:VCALENDAR
VERSION:2.0
PRODID:-//Alabama Mountain Lakes Tourist Association - ECPv6.15.20//NONSGML v1.0//EN
CALSCALE:GREGORIAN
METHOD:PUBLISH
X-WR-CALNAME:Alabama Mountain Lakes Tourist Association
X-ORIGINAL-URL:https://amla4tourism.com
X-WR-CALDESC:Events for Alabama Mountain Lakes Tourist Association
REFRESH-INTERVAL;VALUE=DURATION:PT1H
X-Robots-Tag:noindex
X-PUBLISHED-TTL:PT1H
BEGIN:VTIMEZONE
TZID:UTC
BEGIN:STANDARD
TZOFFSETFROM:+0000
TZOFFSETTO:+0000
TZNAME:UTC
DTSTART:20200101T000000
END:STANDARD
END:VTIMEZONE
BEGIN:VEVENT
DTSTART;VALUE=DATE:20230622
DTEND;VALUE=DATE:20230626
DTSTAMP:20260424T024238
CREATED:20230310T022109Z
LAST-MODIFIED:20230310T022109Z
UID:3738-1687392000-1687737599@amla4tourism.com
SUMMARY:Alabama Press Association Summer Convention
DESCRIPTION:
URL:https://amla4tourism.com/event/alabama-press-association-summer-convention/
LOCATION:Perdido Beach Resort\, Orange Beach\, AL\, 36561\, United States
END:VEVENT
BEGIN:VEVENT
DTSTART;TZID=UTC:20230615T100000
DTEND;TZID=UTC:20230615T120000
DTSTAMP:20260424T024238
CREATED:20230309T044913Z
LAST-MODIFIED:20230311T003652Z
UID:3691-1686823200-1686830400@amla4tourism.com
SUMMARY:Virtual Lunch & Learn with AMLA
DESCRIPTION:“You Feast on What You Sow” \nA current look at motivating and building synergy within your team.
URL:https://amla4tourism.com/event/virtual-learn-learn/
ORGANIZER;CN="Alabama Mountain Lakes Tourist Association":MAILTO:karen@northalabama.org
END:VEVENT
BEGIN:VEVENT
DTSTART;VALUE=DATE:20230612
DTEND;VALUE=DATE:20230617
DTSTAMP:20260424T024238
CREATED:20230310T025049Z
LAST-MODIFIED:20230310T025050Z
UID:3750-1686528000-1686959999@amla4tourism.com
SUMMARY:Professional Outdoor Media Association's (POMA) Annual Business Conference
DESCRIPTION:
URL:https://amla4tourism.com/event/professional-outdoor-media-associations-poma-annual-business-conference/
LOCATION:Broken Arrow\, Broken Arrow\, Oklahoma
END:VEVENT
BEGIN:VEVENT
DTSTART;VALUE=DATE:20230604
DTEND;VALUE=DATE:20230610
DTSTAMP:20260424T024238
CREATED:20230310T020507Z
LAST-MODIFIED:20230310T020508Z
UID:3732-1685836800-1686355199@amla4tourism.com
SUMMARY:STS Marketing College
DESCRIPTION:
URL:https://amla4tourism.com/event/sts-marketing-college/
LOCATION:Mercer University\, 1501 Mercer University Drive\, Macon\, GA\, 31207\, United States
END:VEVENT
BEGIN:VEVENT
DTSTART;VALUE=DATE:20230520
DTEND;VALUE=DATE:20230525
DTSTAMP:20260424T024238
CREATED:20230310T020055Z
LAST-MODIFIED:20230310T020056Z
UID:3728-1684540800-1684972799@amla4tourism.com
SUMMARY:IPW
DESCRIPTION:
URL:https://amla4tourism.com/event/ipw/
LOCATION:Henry B. González Convention Center\, 900 E Market Street\, San Antonio\, TX\, 78205\, United States
END:VEVENT
BEGIN:VEVENT
DTSTART;TZID=UTC:20230517T100000
DTEND;TZID=UTC:20230517T140000
DTSTAMP:20260424T024238
CREATED:20230310T024622Z
LAST-MODIFIED:20230310T024623Z
UID:3747-1684317600-1684332000@amla4tourism.com
SUMMARY:North Alabama Legislative Picnic
DESCRIPTION:
URL:https://amla4tourism.com/event/north-alabama-legislative-picnic/
LOCATION:State Capitol\, South Lawn\, Montgomery\, AL\, 36130\, United States
ORGANIZER;CN="Alabama Mountain Lakes Tourist Association":MAILTO:karen@northalabama.org
END:VEVENT
BEGIN:VEVENT
DTSTART;VALUE=DATE:20230510
DTEND;VALUE=DATE:20230513
DTSTAMP:20260424T024238
CREATED:20230310T014958Z
LAST-MODIFIED:20230310T014958Z
UID:3725-1683676800-1683935999@amla4tourism.com
SUMMARY:Alabama League of Municipalities
DESCRIPTION:
URL:https://amla4tourism.com/event/alabama-league-of-municipalities/
LOCATION:Birmingham\, AL\, 35233\, United States
END:VEVENT
BEGIN:VEVENT
DTSTART;TZID=UTC:20230425T100000
DTEND;TZID=UTC:20230425T140000
DTSTAMP:20260424T024238
CREATED:20230309T042059Z
LAST-MODIFIED:20230310T010907Z
UID:3680-1682416800-1682431200@amla4tourism.com
SUMMARY:Quarterly Board & Membership Meeting
DESCRIPTION:
URL:https://amla4tourism.com/event/quarterly-board-membership-meeting-2/
LOCATION:DoubleTree by Hilton Hotel\, 1101 6th Avenue NE\, Decatur\, AL\, 35601\, United States
ORGANIZER;CN="Alabama Mountain Lakes Tourist Association":MAILTO:karen@northalabama.org
END:VEVENT
BEGIN:VEVENT
DTSTART;VALUE=DATE:20230420
DTEND;VALUE=DATE:20230423
DTSTAMP:20260424T024238
CREATED:20230310T014256Z
LAST-MODIFIED:20230310T014256Z
UID:3723-1681948800-1682207999@amla4tourism.com
SUMMARY:STS Domestic Showcase Post FAM
DESCRIPTION:
URL:https://amla4tourism.com/event/sts-domestic-showcase-post-fam/
ORGANIZER;CN="Huntsville/Madison County Convention & Visitors Bureau":MAILTO:dond@huntsville.org
END:VEVENT
BEGIN:VEVENT
DTSTART;TZID=UTC:20230418T100000
DTEND;TZID=UTC:20230418T233000
DTSTAMP:20260424T024238
CREATED:20230310T012051Z
LAST-MODIFIED:20230310T012051Z
UID:3705-1681812000-1681860600@amla4tourism.com
SUMMARY:Social Media Zoom Training Workshop
DESCRIPTION:Video is King – Using Video on Social Media with Katelyn Henderson\, content marketing specialist at Move Digital & owner of We Are Huntsville
URL:https://amla4tourism.com/event/social-media-zoom-training-workshop-2/
ORGANIZER;CN="Alabama Mountain Lakes Tourist Association":MAILTO:karen@northalabama.org
END:VEVENT
BEGIN:VEVENT
DTSTART;VALUE=DATE:20230417
DTEND;VALUE=DATE:20230421
DTSTAMP:20260424T024238
CREATED:20230310T013932Z
LAST-MODIFIED:20230310T013932Z
UID:3718-1681689600-1682035199@amla4tourism.com
SUMMARY:STS Domestic Showcase
DESCRIPTION:
URL:https://amla4tourism.com/event/sts-domestic-showcase/
LOCATION:Huntsville\, AL\, 35801\, United States
ORGANIZER;CN="Huntsville/Madison County Convention & Visitors Bureau":MAILTO:dond@huntsville.org
END:VEVENT
BEGIN:VEVENT
DTSTART;VALUE=DATE:20230406
DTEND;VALUE=DATE:20230407
DTSTAMP:20260424T024238
CREATED:20230310T013727Z
LAST-MODIFIED:20230310T013727Z
UID:3716-1680739200-1680825599@amla4tourism.com
SUMMARY:Alabama State Meeting
DESCRIPTION:
URL:https://amla4tourism.com/event/alabama-state-meeting/
LOCATION:Montgomery\, AL\, 36104\, United States
END:VEVENT
BEGIN:VEVENT
DTSTART;VALUE=DATE:20230405
DTEND;VALUE=DATE:20230406
DTSTAMP:20260424T024238
CREATED:20230310T013634Z
LAST-MODIFIED:20230310T013634Z
UID:3713-1680652800-1680739199@amla4tourism.com
SUMMARY:Alabama Tourism Bash
DESCRIPTION:Montgomery\, AL
URL:https://amla4tourism.com/event/alabama-tourism-bash/
LOCATION:Montgomery\, AL\, 36104\, United States
ORGANIZER;CN="Alabama Tourism Partnership":MAILTO:patticulp@alabamatravel.org
END:VEVENT
BEGIN:VEVENT
DTSTART;VALUE=DATE:20230325
DTEND;VALUE=DATE:20230327
DTSTAMP:20260424T024238
CREATED:20230310T013410Z
LAST-MODIFIED:20230310T013410Z
UID:3711-1679702400-1679875199@amla4tourism.com
SUMMARY:Atlanta Travel Adventure Show
DESCRIPTION:Atlanta\, GA
URL:https://amla4tourism.com/event/atlanta-travel-adventure-show/
END:VEVENT
BEGIN:VEVENT
DTSTART;TZID=UTC:20230321T100000
DTEND;TZID=UTC:20230321T233000
DTSTAMP:20260424T024238
CREATED:20230310T011908Z
LAST-MODIFIED:20230313T192843Z
UID:3703-1679392800-1679441400@amla4tourism.com
SUMMARY:Social Media Zoom Training Workshop
DESCRIPTION:Influencer marketing with Michelle Stark\, vice president of sales and marketing for Red Sage
URL:https://amla4tourism.com/event/social-media-zoom-training-workshop/
ORGANIZER;CN="Alabama Mountain Lakes Tourist Association":MAILTO:karen@northalabama.org
END:VEVENT
BEGIN:VEVENT
DTSTART;VALUE=DATE:20230310
DTEND;VALUE=DATE:20230313
DTSTAMP:20260424T024238
CREATED:20230310T013327Z
LAST-MODIFIED:20230310T013327Z
UID:3709-1678406400-1678665599@amla4tourism.com
SUMMARY:Canoeacopia
DESCRIPTION:Madison\, WI
URL:https://amla4tourism.com/event/canoeacopia/
END:VEVENT
BEGIN:VEVENT
DTSTART;TZID=UTC:20210420T100000
DTEND;TZID=UTC:20210420T150000
DTSTAMP:20260424T024238
CREATED:20210416T051435Z
LAST-MODIFIED:20230310T010923Z
UID:3278-1618912800-1618930800@amla4tourism.com
SUMMARY:Quarterly Board & Membership Meeting
DESCRIPTION:MEMO TO:      AMLA Members & Board of Directors \nFROM:            Katy Norton\, Chairman of the Board \nRE:                  Quarterly Membership & Board of Directors Meeting \nThe Quarterly Membership & Board of Directors meeting of the Alabama Mountain Lakes Tourist Association will be held Tuesday\, April 20\, 2021\, at Willow Oak\, in Spruce Pine\, AL. The Quarterly Board meeting will start at approximately 10:00 a.m.  Willow Oak is located at 8410 Hwy 43\, Spruce Pine\, AL 35585. (near mile maker 289) \nThe cost of the lunch is $18. \n****Willow Oak is a gated property. There will be someone stationed at the entrance to let you in the gate. Due to the abundance of wildlife\, please adhere to the strict 15 MPH speed limit.**** \nPlease confirm your attendance for the board meeting by registering online at www.northalabama.org/rsvp  by Thursday\, April 15\, 2021. \nPlease call 256-350-3500 or email randypaul@northalabama.org if you have any questions.
URL:https://amla4tourism.com/event/quarterly-board-membership-meeting/
LOCATION:Willow Oak\, 8410 Highway 43\, Spruce Pine\, Alabama\, 35585
ORGANIZER;CN="Alabama Mountain Lakes Tourist Association":MAILTO:karen@northalabama.org
END:VEVENT
END:VCALENDAR