BEGIN:VCALENDAR
VERSION:2.0
PRODID:-//Alabama Mountain Lakes Tourist Association - ECPv6.15.20//NONSGML v1.0//EN
CALSCALE:GREGORIAN
METHOD:PUBLISH
X-ORIGINAL-URL:https://amla4tourism.com
X-WR-CALDESC:Events for Alabama Mountain Lakes Tourist Association
REFRESH-INTERVAL;VALUE=DURATION:PT1H
X-Robots-Tag:noindex
X-PUBLISHED-TTL:PT1H
BEGIN:VTIMEZONE
TZID:UTC
BEGIN:STANDARD
TZOFFSETFROM:+0000
TZOFFSETTO:+0000
TZNAME:UTC
DTSTART:20220101T000000
END:STANDARD
END:VTIMEZONE
BEGIN:VEVENT
DTSTART;TZID=UTC:20250918T080000
DTEND;TZID=UTC:20250918T170000
DTSTAMP:20260423T155603
CREATED:20241010T223729Z
LAST-MODIFIED:20241010T223729Z
UID:4712-1758182400-1758214800@amla4tourism.com
SUMMARY:Annual Meeting
DESCRIPTION:
URL:https://amla4tourism.com/event/annual-meeting-2/
LOCATION:Downtown Civic Center\, Gadsden\, Alabama
END:VEVENT
BEGIN:VEVENT
DTSTART;TZID=UTC:20250827T100000
DTEND;TZID=UTC:20250827T113000
DTSTAMP:20260423T155603
CREATED:20241010T224830Z
LAST-MODIFIED:20241010T224830Z
UID:4730-1756288800-1756294200@amla4tourism.com
SUMMARY:Social Media Virtual Seminar
DESCRIPTION:Join AMLA’s Melea Hames and Front Porch Media’s Eva Faircloth for a session on working with influencers.
URL:https://amla4tourism.com/event/social-media-virtual-seminar/
END:VEVENT
BEGIN:VEVENT
DTSTART;TZID=UTC:20250814T113000
DTEND;TZID=UTC:20250814T130000
DTSTAMP:20260423T155603
CREATED:20241010T224310Z
LAST-MODIFIED:20241010T224310Z
UID:4722-1755171000-1755176400@amla4tourism.com
SUMMARY:Virtual Lunch & Learn
DESCRIPTION:Grab lunch and join AMLA’s Craig Johnston for Leadership Skills Part 3: Motivating the Generations
URL:https://amla4tourism.com/event/virtual-lunch-learn-4/
END:VEVENT
BEGIN:VEVENT
DTSTART;TZID=UTC:20250722T090000
DTEND;TZID=UTC:20250722T150000
DTSTAMP:20260423T155603
CREATED:20241010T223626Z
LAST-MODIFIED:20241010T223626Z
UID:4709-1753174800-1753196400@amla4tourism.com
SUMMARY:Quarterly Board & Membership Meeting
DESCRIPTION:
URL:https://amla4tourism.com/event/quarterly-board-membership-meeting-7/
LOCATION:The Logan Room\, Sheffield\, Alabama
END:VEVENT
BEGIN:VEVENT
DTSTART;TZID=UTC:20250626T113000
DTEND;TZID=UTC:20250626T130000
DTSTAMP:20260423T155603
CREATED:20241010T224135Z
LAST-MODIFIED:20241010T224135Z
UID:4720-1750937400-1750942800@amla4tourism.com
SUMMARY:Virtual Lunch & Learn
DESCRIPTION:Grab lunch and join AMLA’s Craig Johnston for Leadership Skills Part 2: Coaching with Intelligence
URL:https://amla4tourism.com/event/virtual-lunch-learn-3/
END:VEVENT
BEGIN:VEVENT
DTSTART;TZID=UTC:20250623T090000
DTEND;TZID=UTC:20250623T093000
DTSTAMP:20260423T155603
CREATED:20250528T013902Z
LAST-MODIFIED:20250528T013902Z
UID:4897-1750669200-1750671000@amla4tourism.com
SUMMARY:Let's Talk Accessibility Training
DESCRIPTION:A short and sweet guide to understanding accessibility and what it looks like\, feels like and/or sounds like. Free for AMLA members.
URL:https://amla4tourism.com/event/lets-talk-accessibility-training/
LOCATION:AC Hotel\, 435 Williams Avenue\, Huntsville\, AL\, 35801\, United States
ORGANIZER;CN="Alabama Mountain Lakes Tourist Association":MAILTO:karen@northalabama.org
END:VEVENT
BEGIN:VEVENT
DTSTART;TZID=UTC:20250513T080000
DTEND;TZID=UTC:20250513T170000
DTSTAMP:20260423T155603
CREATED:20241010T223824Z
LAST-MODIFIED:20241010T223824Z
UID:4715-1747123200-1747155600@amla4tourism.com
SUMMARY:Educational Seminar
DESCRIPTION:
URL:https://amla4tourism.com/event/educational-seminar/
LOCATION:Priceville Event Center\, Priceville\, Alabama
END:VEVENT
BEGIN:VEVENT
DTSTART;TZID=UTC:20250429T090000
DTEND;TZID=UTC:20250429T150000
DTSTAMP:20260423T155603
CREATED:20241010T223533Z
LAST-MODIFIED:20241010T223533Z
UID:4706-1745917200-1745938800@amla4tourism.com
SUMMARY:Quarterly Board & Membership Meeting
DESCRIPTION:
URL:https://amla4tourism.com/event/quarterly-board-membership-meeting-6/
LOCATION:The Old Greenhouse\, Arab\, Alabama
END:VEVENT
BEGIN:VEVENT
DTSTART;TZID=UTC:20250423T100000
DTEND;TZID=UTC:20250423T113000
DTSTAMP:20260423T155603
CREATED:20241010T224718Z
LAST-MODIFIED:20241010T224959Z
UID:4728-1745402400-1745407800@amla4tourism.com
SUMMARY:Social Media Virtual Seminar
DESCRIPTION:Join AMLA’s Melea Hames and Kelsey Ogletree\, founder of Pitchcraft for a presentation on community and collaboration with writers.
URL:https://amla4tourism.com/event/social-media-virtual-meetings-2/
END:VEVENT
BEGIN:VEVENT
DTSTART;TZID=UTC:20250313T113000
DTEND;TZID=UTC:20250313T130000
DTSTAMP:20260423T155603
CREATED:20241010T224035Z
LAST-MODIFIED:20241010T224035Z
UID:4718-1741865400-1741870800@amla4tourism.com
SUMMARY:Virtual Lunch & Learn
DESCRIPTION:Grab lunch and join AMLA’s Craig Johnston for Leadership Skills Part 1: Understanding Emotional Intelligence
URL:https://amla4tourism.com/event/virtual-lunch-learn-2/
END:VEVENT
BEGIN:VEVENT
DTSTART;TZID=UTC:20250129T100000
DTEND;TZID=UTC:20250129T113000
DTSTAMP:20260423T155603
CREATED:20241010T224553Z
LAST-MODIFIED:20250128T234543Z
UID:4726-1738144800-1738150200@amla4tourism.com
SUMMARY:Social Media Virtual Seminar
DESCRIPTION:Join AMLA’s Melea Hames and Crowdriff’s Katrina Keilauer for social trends for 2025
URL:https://amla4tourism.com/event/social-media-virtual-meetings/
END:VEVENT
BEGIN:VEVENT
DTSTART;TZID=UTC:20250121T090000
DTEND;TZID=UTC:20250121T150000
DTSTAMP:20260423T155603
CREATED:20241010T223429Z
LAST-MODIFIED:20241010T223429Z
UID:4704-1737450000-1737471600@amla4tourism.com
SUMMARY:Quarterly Board & Membership Meeting
DESCRIPTION:
URL:https://amla4tourism.com/event/quarterly-board-membership-meeting-5/
LOCATION:Holiday Inn\, Guin\, Alabama
END:VEVENT
BEGIN:VEVENT
DTSTART;TZID=UTC:20241212T080000
DTEND;TZID=UTC:20241212T170000
DTSTAMP:20260423T155603
CREATED:20241010T223247Z
LAST-MODIFIED:20241010T223247Z
UID:4701-1733990400-1734022800@amla4tourism.com
SUMMARY:Committee of 16 (Invitation Only)
DESCRIPTION:
URL:https://amla4tourism.com/event/committee-of-16-invitation-only/
LOCATION:The Venue at Oak Place\, Huntsville\, Alabama
ORGANIZER;CN="Alabama Mountain Lakes Tourist Association":MAILTO:karen@northalabama.org
END:VEVENT
BEGIN:VEVENT
DTSTART;TZID=UTC:20241112T120000
DTEND;TZID=UTC:20241113T120000
DTSTAMP:20260423T155603
CREATED:20241010T223128Z
LAST-MODIFIED:20241010T223128Z
UID:4699-1731412800-1731499200@amla4tourism.com
SUMMARY:Board Retreat (Invitation Only)
DESCRIPTION:
URL:https://amla4tourism.com/event/board-retreat-invitation-only/
LOCATION:Huntsville\, AL\, 35801\, United States
ORGANIZER;CN="Alabama Mountain Lakes Tourist Association":MAILTO:karen@northalabama.org
END:VEVENT
BEGIN:VEVENT
DTSTART;TZID=UTC:20240926T080000
DTEND;TZID=UTC:20240926T170000
DTSTAMP:20260423T155603
CREATED:20240315T024647Z
LAST-MODIFIED:20240315T024647Z
UID:4544-1727337600-1727370000@amla4tourism.com
SUMMARY:Annual Meeting | 60th Anniversary
DESCRIPTION:
URL:https://amla4tourism.com/event/annual-meeting-60th-anniversary/
LOCATION:The Jackson Center\, 6001 Moquin Drive NW\, Huntsville\, AL\, United States
ORGANIZER;CN="Alabama Mountain Lakes Tourist Association":MAILTO:karen@northalabama.org
END:VEVENT
BEGIN:VEVENT
DTSTART;TZID=UTC:20240723T100000
DTEND;TZID=UTC:20240723T140000
DTSTAMP:20260423T155603
CREATED:20240315T023846Z
LAST-MODIFIED:20240315T023846Z
UID:4541-1721728800-1721743200@amla4tourism.com
SUMMARY:Quarterly Board  & Membership Meeting
DESCRIPTION:
URL:https://amla4tourism.com/event/quarterly-board-membership-meeting-4/
LOCATION:The Little Brick Church\, 112 Second Avenue East\, Oneonta\, AL\, United States
ORGANIZER;CN="Alabama Mountain Lakes Tourist Association":MAILTO:karen@northalabama.org
END:VEVENT
BEGIN:VEVENT
DTSTART;TZID=UTC:20240625T100000
DTEND;TZID=UTC:20240625T140000
DTSTAMP:20260423T155603
CREATED:20240424T231431Z
LAST-MODIFIED:20240424T231431Z
UID:4579-1719309600-1719324000@amla4tourism.com
SUMMARY:Festival and special event workshop by Southeast Festivals and Events Association
DESCRIPTION:
URL:https://amla4tourism.com/event/festival-and-special-event-workshop-by-southeast-festivals-and-events-association/
LOCATION:Alabama Veterans Museum\, 100 Pryor St W\, Athens\, AL\, 25611\, United States
ORGANIZER;CN="Alabama Mountain Lakes Tourist Association":MAILTO:karen@northalabama.org
END:VEVENT
BEGIN:VEVENT
DTSTART;TZID=UTC:20240501T110000
DTEND;TZID=UTC:20240501T133000
DTSTAMP:20260423T155603
CREATED:20240315T025101Z
LAST-MODIFIED:20240424T232448Z
UID:4547-1714561200-1714570200@amla4tourism.com
SUMMARY:Legislative Picnic
DESCRIPTION:AMLA CVB and Chamber Tourism members are invited to join us for a picnic lunch and live music on the South Lawn of the Capitol in Montgomery. Each of the 16 counties in North Alabama will have a display booth to showcase their tourist destinations.
URL:https://amla4tourism.com/event/legislative-picnic/
LOCATION:Alabama State Capitol\, Montgomery\, AL
ORGANIZER;CN="Alabama Mountain Lakes Tourist Association":MAILTO:karen@northalabama.org
END:VEVENT
BEGIN:VEVENT
DTSTART;TZID=UTC:20240423T100000
DTEND;TZID=UTC:20240423T140000
DTSTAMP:20260423T155603
CREATED:20240315T021741Z
LAST-MODIFIED:20240315T023115Z
UID:4533-1713866400-1713880800@amla4tourism.com
SUMMARY:Quarterly Board and Membership Meeting
DESCRIPTION:The Quarterly Membership & Board of Directors meeting will be held Tuesday\, April 23\, 2024\, at the Scottsboro Civic Center (located within the Goose Pond Colony Resort)\, starting at approximately 10:00 a.m. \nGuest speaker is Julie Sheffield\, podcast manager at Relic. \nIndependent judges will be selecting the “Pitching for Promotion Dollars” winners. To participate you must sign up by Tuesday\, April 15\, 2024\, by sending an email with the subject line: Pitching for Promotion Dollars to tami@northalabama.org. Sign-up is limited to 10 participants. \nPlease confirm your attendance at the meeting by registering at www.northalabama.org/rsvp by Thursday\, April 18\, 2024. \nPlease call 256-350-3500 or email Penne@northalabama.org if you have any questions.
URL:https://amla4tourism.com/event/quarterly-board-and-membership-meeting/
LOCATION:Scottsboro Civic Center\, 876 Ed Hembree Drive\, Scottsboro\, AL\, 35768\, United States
ORGANIZER;CN="Alabama Mountain Lakes Tourist Association":MAILTO:karen@northalabama.org
END:VEVENT
BEGIN:VEVENT
DTSTART;TZID=UTC:20231107T100000
DTEND;TZID=UTC:20231107T120000
DTSTAMP:20260423T155603
CREATED:20230310T011400Z
LAST-MODIFIED:20230310T022846Z
UID:3699-1699351200-1699358400@amla4tourism.com
SUMMARY:Virtual Lunch & Learn with AMLA
DESCRIPTION:“An Adventure for the Five Senses” \nA course on planning\, preparing and delivering a truly unforgettable experience with your team\, clients and guests.
URL:https://amla4tourism.com/event/virtual-lunch-learn/
ORGANIZER;CN="Alabama Mountain Lakes Tourist Association":MAILTO:karen@northalabama.org
END:VEVENT
BEGIN:VEVENT
DTSTART;TZID=UTC:20230921T080000
DTEND;TZID=UTC:20230921T170000
DTSTAMP:20260423T155603
CREATED:20230309T042713Z
LAST-MODIFIED:20230310T010526Z
UID:3685-1695283200-1695315600@amla4tourism.com
SUMMARY:Annual Meeting
DESCRIPTION:
URL:https://amla4tourism.com/event/annual-meeting/
LOCATION:Lake Guntersville State Park\, 24 State Campground Road\, Guntersville\, 35976\, United States
ORGANIZER;CN="Alabama Mountain Lakes Tourist Association":MAILTO:karen@northalabama.org
END:VEVENT
BEGIN:VEVENT
DTSTART;VALUE=DATE:20230909
DTEND;VALUE=DATE:20230912
DTSTAMP:20260423T155603
CREATED:20230311T005502Z
LAST-MODIFIED:20230311T005502Z
UID:3788-1694217600-1694476799@amla4tourism.com
SUMMARY:OWAA
DESCRIPTION:
URL:https://amla4tourism.com/event/owaa/
LOCATION:The Lodge at Gulf State Park\, 21196 E Beach Blvd.\, Gulf Shores\, AL\, 36542\, United States
END:VEVENT
BEGIN:VEVENT
DTSTART;TZID=UTC:20230905T100000
DTEND;TZID=UTC:20230905T120000
DTSTAMP:20260423T155603
CREATED:20230309T045946Z
LAST-MODIFIED:20230310T022817Z
UID:3696-1693908000-1693915200@amla4tourism.com
SUMMARY:Virtual Lunch & Learn with AMLA
DESCRIPTION:“Now Hiring – The Great Crusade” \nA focus on hiring the right people and mitigating attrition
URL:https://amla4tourism.com/event/virtual-lunch-learn-with-amla/
ORGANIZER;CN="Alabama Mountain Lakes Tourist Association":MAILTO:karen@northalabama.org
END:VEVENT
BEGIN:VEVENT
DTSTART;VALUE=DATE:20230826
DTEND;VALUE=DATE:20230901
DTSTAMP:20260423T155603
CREATED:20230311T005253Z
LAST-MODIFIED:20230311T005253Z
UID:3784-1693008000-1693526399@amla4tourism.com
SUMMARY:Alabama Governor's Conference on Tourism
DESCRIPTION:
URL:https://amla4tourism.com/event/alabama-governors-conference-on-tourism/
LOCATION:The Grand Hotel\, One Grand Blvd.\, Point Clear\, AL\, 36564\, United States
END:VEVENT
BEGIN:VEVENT
DTSTART;VALUE=DATE:20230822
DTEND;VALUE=DATE:20230825
DTSTAMP:20260423T155603
CREATED:20230311T004958Z
LAST-MODIFIED:20230311T004958Z
UID:3781-1692662400-1692921599@amla4tourism.com
SUMMARY:ACCA
DESCRIPTION:
URL:https://amla4tourism.com/event/acca/
LOCATION:Orange Beach\, AL
END:VEVENT
BEGIN:VEVENT
DTSTART;VALUE=DATE:20230819
DTEND;VALUE=DATE:20230823
DTSTAMP:20260423T155603
CREATED:20230311T004539Z
LAST-MODIFIED:20230311T004539Z
UID:3779-1692403200-1692748799@amla4tourism.com
SUMMARY:ESTO
DESCRIPTION:
URL:https://amla4tourism.com/event/esto/
END:VEVENT
BEGIN:VEVENT
DTSTART;TZID=UTC:20230815T100000
DTEND;TZID=UTC:20230815T233000
DTSTAMP:20260423T155603
CREATED:20230310T012456Z
LAST-MODIFIED:20230310T012456Z
UID:3707-1692093600-1692142200@amla4tourism.com
SUMMARY:Social Media Zoom Training Workshop
DESCRIPTION:Email + Social Media = How to Make it Work with Katelyn Henderson\, content marketing specialist at Move Digital & owner of We Are Huntsville
URL:https://amla4tourism.com/event/social-media-zoom-training-workshop-3/
ORGANIZER;CN="Alabama Mountain Lakes Tourist Association":MAILTO:karen@northalabama.org
END:VEVENT
BEGIN:VEVENT
DTSTART;VALUE=DATE:20230806
DTEND;VALUE=DATE:20230807
DTSTAMP:20260423T155603
CREATED:20230311T004237Z
LAST-MODIFIED:20230311T004238Z
UID:3776-1691280000-1691366399@amla4tourism.com
SUMMARY:Bridal Show
DESCRIPTION:
URL:https://amla4tourism.com/event/bridal-show/
LOCATION:The Venue at Coosa Landing\, 201 George Wallace Drive\, Gadsden\, AL\, 35903\, United States
END:VEVENT
BEGIN:VEVENT
DTSTART;VALUE=DATE:20230730
DTEND;VALUE=DATE:20230731
DTSTAMP:20260423T155603
CREATED:20230310T224422Z
LAST-MODIFIED:20230310T224422Z
UID:3770-1690675200-1690761599@amla4tourism.com
SUMMARY:Modern Bridal Show
DESCRIPTION:
URL:https://amla4tourism.com/event/modern-bridal-show/
LOCATION:Huntsville\, AL\, 35801\, United States
END:VEVENT
BEGIN:VEVENT
DTSTART;TZID=UTC:20230725T100000
DTEND;TZID=UTC:20230725T140000
DTSTAMP:20260423T155603
CREATED:20230309T042304Z
LAST-MODIFIED:20230310T010813Z
UID:3683-1690279200-1690293600@amla4tourism.com
SUMMARY:Quarterly Board & Membership Meeting
DESCRIPTION:
URL:https://amla4tourism.com/event/quarterly-board-membership-meeting-3/
LOCATION:Joe Wheeler State Park\, 4403 McLean Dr.\, Rogersville\, AL\, 35652\, United States
ORGANIZER;CN="Alabama Mountain Lakes Tourist Association":MAILTO:karen@northalabama.org
END:VEVENT
END:VCALENDAR