BEGIN:VCALENDAR
VERSION:2.0
PRODID:-//Alabama Mountain Lakes Tourist Association - ECPv6.15.20//NONSGML v1.0//EN
CALSCALE:GREGORIAN
METHOD:PUBLISH
X-ORIGINAL-URL:https://amla4tourism.com
X-WR-CALDESC:Events for Alabama Mountain Lakes Tourist Association
REFRESH-INTERVAL;VALUE=DURATION:PT1H
X-Robots-Tag:noindex
X-PUBLISHED-TTL:PT1H
BEGIN:VTIMEZONE
TZID:America/Chicago
BEGIN:DAYLIGHT
TZOFFSETFROM:-0600
TZOFFSETTO:-0500
TZNAME:CDT
DTSTART:20250309T080000
END:DAYLIGHT
BEGIN:STANDARD
TZOFFSETFROM:-0500
TZOFFSETTO:-0600
TZNAME:CST
DTSTART:20251102T070000
END:STANDARD
BEGIN:DAYLIGHT
TZOFFSETFROM:-0600
TZOFFSETTO:-0500
TZNAME:CDT
DTSTART:20260308T080000
END:DAYLIGHT
BEGIN:STANDARD
TZOFFSETFROM:-0500
TZOFFSETTO:-0600
TZNAME:CST
DTSTART:20261101T070000
END:STANDARD
BEGIN:DAYLIGHT
TZOFFSETFROM:-0600
TZOFFSETTO:-0500
TZNAME:CDT
DTSTART:20270314T080000
END:DAYLIGHT
BEGIN:STANDARD
TZOFFSETFROM:-0500
TZOFFSETTO:-0600
TZNAME:CST
DTSTART:20271107T070000
END:STANDARD
END:VTIMEZONE
BEGIN:VEVENT
DTSTART;VALUE=DATE:20260220
DTEND;VALUE=DATE:20260302
DTSTAMP:20260423T192027
CREATED:20260130T215850Z
LAST-MODIFIED:20260130T215850Z
UID:5024-1771545600-1772409599@amla4tourism.com
SUMMARY:Indianapolis Boat\, Sport & Travel Show
DESCRIPTION:
URL:https://amla4tourism.com/event/indianapolis-boat-sport-travel-show/
END:VEVENT
BEGIN:VEVENT
DTSTART;VALUE=DATE:20260223
DTEND;VALUE=DATE:20260228
DTSTAMP:20260423T192027
CREATED:20260130T220157Z
LAST-MODIFIED:20260130T220157Z
UID:5026-1771804800-1772236799@amla4tourism.com
SUMMARY:HCI Peer Group Conference
DESCRIPTION:
URL:https://amla4tourism.com/event/hci-peer-group-conference/
LOCATION:Virginia Beach\, Virginia\, Virginia Beach\, Virginia
END:VEVENT
BEGIN:VEVENT
DTSTART;VALUE=DATE:20260305
DTEND;VALUE=DATE:20260308
DTSTAMP:20260423T192027
CREATED:20260130T220838Z
LAST-MODIFIED:20260130T220838Z
UID:5031-1772668800-1772927999@amla4tourism.com
SUMMARY:George Lindsey Film Festival
DESCRIPTION:
URL:https://amla4tourism.com/event/george-lindsey-film-festival/
LOCATION:University of North Alabama\, Florence\, Alabama
END:VEVENT
BEGIN:VEVENT
DTSTART;VALUE=DATE:20260309
DTEND;VALUE=DATE:20260311
DTSTAMP:20260423T192027
CREATED:20260130T220945Z
LAST-MODIFIED:20260130T220945Z
UID:5034-1773014400-1773187199@amla4tourism.com
SUMMARY:DIY Learn Tourism Conference
DESCRIPTION:
URL:https://amla4tourism.com/event/diy-learn-tourism-conference/
LOCATION:Richmond\, Virginia
END:VEVENT
BEGIN:VEVENT
DTSTART;VALUE=DATE:20260310
DTEND;VALUE=DATE:20260312
DTSTAMP:20260423T192027
CREATED:20260130T222738Z
LAST-MODIFIED:20260209T211159Z
UID:5051-1773100800-1773273599@amla4tourism.com
SUMMARY:Alabama Tourism Bash & State Meeting
DESCRIPTION:
URL:https://amla4tourism.com/event/alabama-tourism-bash-state-meeting/
LOCATION:Montgomery\, AL\, 36104\, United States
END:VEVENT
BEGIN:VEVENT
DTSTART;VALUE=DATE:20260313
DTEND;VALUE=DATE:20260514
DTSTAMP:20260423T192027
CREATED:20260130T221702Z
LAST-MODIFIED:20260130T221702Z
UID:5046-1773360000-1778716799@amla4tourism.com
SUMMARY:Canoeacopia
DESCRIPTION:
URL:https://amla4tourism.com/event/canoeacopia-3/
LOCATION:Madison\, Wisconsin
END:VEVENT
BEGIN:VEVENT
DTSTART;TZID=America/Chicago:20260313T100000
DTEND;TZID=America/Chicago:20260313T110000
DTSTAMP:20260423T192027
CREATED:20260130T224305Z
LAST-MODIFIED:20260130T224305Z
UID:5069-1773396000-1773399600@amla4tourism.com
SUMMARY:Let's Talk Accessibility
DESCRIPTION:Join AMLA’s Workforce Development Director Craig Johnston for a webinar on understanding accessibility and what it looks\, sounds and/or feels like.
URL:https://amla4tourism.com/event/lets-talk-accessibility-2/
ORGANIZER;CN="Alabama Mountain Lakes Tourist Association":MAILTO:karen@northalabama.org
END:VEVENT
BEGIN:VEVENT
DTSTART;TZID=America/Chicago:20260318T110000
DTEND;TZID=America/Chicago:20260318T140000
DTSTAMP:20260423T192027
CREATED:20260130T220327Z
LAST-MODIFIED:20260130T220327Z
UID:5029-1773831600-1773842400@amla4tourism.com
SUMMARY:Legislative Picnic
DESCRIPTION:
URL:https://amla4tourism.com/event/legislative-picnic-2/
LOCATION:Alabama State Capitol\, Montgomery\, AL
ORGANIZER;CN="Alabama Mountain Lakes Tourist Association":MAILTO:karen@northalabama.org
END:VEVENT
BEGIN:VEVENT
DTSTART;TZID=America/Chicago:20260320T113000
DTEND;TZID=America/Chicago:20260320T130000
DTSTAMP:20260423T192027
CREATED:20260209T213258Z
LAST-MODIFIED:20260209T214732Z
UID:5092-1774006200-1774011600@amla4tourism.com
SUMMARY:Key Leadership Skills Series Pt.1: Understanding Leadership Intelligence (LI)
DESCRIPTION:During this Zoom webinar with AMLA Director of Workforce Development Craig Johnston\, learn about Emotional Intelligence (EI) and how more specifically\, focused Leadership Intelligence (LI)\, can make a complete difference in how we approach\, speak to\, and manage individual and team performance.
URL:https://amla4tourism.com/event/key-leadership-skills-series-pt-1-understanding-leadership-intelligence-li/
ORGANIZER;CN="Alabama Mountain Lakes Tourist Association":MAILTO:karen@northalabama.org
END:VEVENT
BEGIN:VEVENT
DTSTART;VALUE=DATE:20260328
DTEND;VALUE=DATE:20260330
DTSTAMP:20260423T192027
CREATED:20260130T221435Z
LAST-MODIFIED:20260130T221435Z
UID:5042-1774656000-1774828799@amla4tourism.com
SUMMARY:Dallas Travel Show
DESCRIPTION:
URL:https://amla4tourism.com/event/dallas-travel-show/
LOCATION:Dallas\, Texas
END:VEVENT
BEGIN:VEVENT
DTSTART;VALUE=DATE:20260330
DTEND;VALUE=DATE:20260402
DTSTAMP:20260423T192027
CREATED:20260130T222639Z
LAST-MODIFIED:20260130T222639Z
UID:5048-1774828800-1775087999@amla4tourism.com
SUMMARY:Destination International CEO Summit
DESCRIPTION:
URL:https://amla4tourism.com/event/destination-international-ceo-summit/
LOCATION:Newport Beach\, California
END:VEVENT
BEGIN:VEVENT
DTSTART;TZID=America/Chicago:20260407T100000
DTEND;TZID=America/Chicago:20260407T113000
DTSTAMP:20260423T192027
CREATED:20260130T223511Z
LAST-MODIFIED:20260130T223511Z
UID:5061-1775556000-1775561400@amla4tourism.com
SUMMARY:Social Media Webinar
DESCRIPTION:Join Melea Hames via zoom for a webinar on content planning and strategy
URL:https://amla4tourism.com/event/social-media-webinar/
ORGANIZER;CN="Alabama Mountain Lakes Tourist Association":MAILTO:karen@northalabama.org
END:VEVENT
BEGIN:VEVENT
DTSTART;TZID=America/Chicago:20260421T093000
DTEND;TZID=America/Chicago:20260421T133000
DTSTAMP:20260423T192027
CREATED:20260130T162639Z
LAST-MODIFIED:20260130T163439Z
UID:5010-1776763800-1776778200@amla4tourism.com
SUMMARY:Quarterly Board & Membership Meeting
DESCRIPTION:
URL:https://amla4tourism.com/event/quarterly-board-membership-meeting-8/
LOCATION:The OmniPlex Sports and Civic Center\, 1634 Field of Miracles Dr SW\, Cullman\, AL\, 35055\, United States
ORGANIZER;CN="Alabama Mountain Lakes Tourist Association":MAILTO:karen@northalabama.org
END:VEVENT
BEGIN:VEVENT
DTSTART;VALUE=DATE:20260422
DTEND;VALUE=DATE:20260428
DTSTAMP:20260423T192027
CREATED:20260130T223149Z
LAST-MODIFIED:20260130T223149Z
UID:5055-1776816000-1777334399@amla4tourism.com
SUMMARY:Travel South Global Media Marketplace
DESCRIPTION:
URL:https://amla4tourism.com/event/travel-south-global-media-marketplace/
END:VEVENT
BEGIN:VEVENT
DTSTART;TZID=America/Chicago:20260423T100000
DTEND;TZID=America/Chicago:20260423T110000
DTSTAMP:20260423T192027
CREATED:20260130T224411Z
LAST-MODIFIED:20260130T224411Z
UID:5071-1776938400-1776942000@amla4tourism.com
SUMMARY:Let's Talk Accessibility
DESCRIPTION:Join AMLA’s Workforce Development Director Craig Johnston for a webinar on understanding accessibility and what it looks\, sounds and/or feels like.
URL:https://amla4tourism.com/event/lets-talk-accessibility-3/
ORGANIZER;CN="Alabama Mountain Lakes Tourist Association":MAILTO:karen@northalabama.org
END:VEVENT
BEGIN:VEVENT
DTSTART;TZID=America/Chicago:20260423T113000
DTEND;TZID=America/Chicago:20260423T130000
DTSTAMP:20260423T192027
CREATED:20260209T214431Z
LAST-MODIFIED:20260209T214647Z
UID:5094-1776943800-1776949200@amla4tourism.com
SUMMARY:Key Leadership Skills Series Pt.2: Coaching with Intelligence
DESCRIPTION:During this Zoom webinar with AMLA Director of Workforce Development Craig Johnston\, we dig deep into the way we guide and coach each person individually based on their own style of communication\, avoid biases\, and connect at a more empathetic level thereby creating trust\, loyalty\, and impact.
URL:https://amla4tourism.com/event/key-leadership-skills-series-pt-2-coaching-with-intelligence/
ORGANIZER;CN="Alabama Mountain Lakes Tourist Association":MAILTO:karen@northalabama.org
END:VEVENT
BEGIN:VEVENT
DTSTART;VALUE=DATE:20260428
DTEND;VALUE=DATE:20260501
DTSTAMP:20260423T192027
CREATED:20260130T223349Z
LAST-MODIFIED:20260130T223349Z
UID:5059-1777334400-1777593599@amla4tourism.com
SUMMARY:ACA Executive Leadership Conference
DESCRIPTION:
URL:https://amla4tourism.com/event/aca-executive-leadership-conference/
LOCATION:Huntsville\, AL\, 35801\, United States
END:VEVENT
BEGIN:VEVENT
DTSTART;VALUE=DATE:20260428
DTEND;VALUE=DATE:20260502
DTSTAMP:20260423T192027
CREATED:20260130T223300Z
LAST-MODIFIED:20260130T223300Z
UID:5057-1777334400-1777679999@amla4tourism.com
SUMMARY:Alabama League of Municipalities
DESCRIPTION:
URL:https://amla4tourism.com/event/alabama-league-of-municipalities-2/
LOCATION:Montgomery\, AL\, 36104\, United States
END:VEVENT
BEGIN:VEVENT
DTSTART;VALUE=DATE:20260512
DTEND;VALUE=DATE:20260513
DTSTAMP:20260423T192027
CREATED:20260130T164323Z
LAST-MODIFIED:20260130T164323Z
UID:5021-1778544000-1778630399@amla4tourism.com
SUMMARY:AI Seminar with Michelle Stark of Red Sage Communications
DESCRIPTION:
URL:https://amla4tourism.com/event/ai-seminar-with-michelle-stark-of-red-sage-communications/
LOCATION:Priceville Event Center\, Priceville\, Alabama
ORGANIZER;CN="Alabama Mountain Lakes Tourist Association":MAILTO:karen@northalabama.org
END:VEVENT
BEGIN:VEVENT
DTSTART;TZID=America/Chicago:20260515T100000
DTEND;TZID=America/Chicago:20260515T110000
DTSTAMP:20260423T192027
CREATED:20260130T224459Z
LAST-MODIFIED:20260130T224459Z
UID:5073-1778839200-1778842800@amla4tourism.com
SUMMARY:Let's Talk Accessibility
DESCRIPTION:Join AMLA’s Workforce Development Director Craig Johnston for a webinar on understanding accessibility and what it looks\, sounds and/or feels like.
URL:https://amla4tourism.com/event/lets-talk-accessibility-4/
ORGANIZER;CN="Alabama Mountain Lakes Tourist Association":MAILTO:karen@northalabama.org
END:VEVENT
BEGIN:VEVENT
DTSTART;TZID=America/Chicago:20260515T113000
DTEND;TZID=America/Chicago:20260515T130000
DTSTAMP:20260423T192027
CREATED:20260209T214557Z
LAST-MODIFIED:20260209T214557Z
UID:5096-1778844600-1778850000@amla4tourism.com
SUMMARY:Key Leadership Skills Series Pt.2: Coaching with Intelligence
DESCRIPTION:During this Zoom webinar with AMLA Director of Workforce Development Craig Johnston\, we dig deep into the way we guide and coach each person individually based on their own style of communication\, avoid biases\, and connect at a more empathetic level thereby creating trust\, loyalty\, and impact.
URL:https://amla4tourism.com/event/key-leadership-skills-series-pt-2-coaching-with-intelligence-2/
ORGANIZER;CN="Alabama Mountain Lakes Tourist Association":MAILTO:karen@northalabama.org
END:VEVENT
BEGIN:VEVENT
DTSTART;TZID=America/Chicago:20260626T100000
DTEND;TZID=America/Chicago:20260626T110000
DTSTAMP:20260423T192027
CREATED:20260130T224541Z
LAST-MODIFIED:20260130T224541Z
UID:5075-1782468000-1782471600@amla4tourism.com
SUMMARY:Let's Talk Accessibility
DESCRIPTION:Join AMLA’s Workforce Development Director Craig Johnston for a webinar on understanding accessibility and what it looks\, sounds and/or feels like.
URL:https://amla4tourism.com/event/lets-talk-accessibility-5/
ORGANIZER;CN="Alabama Mountain Lakes Tourist Association":MAILTO:karen@northalabama.org
END:VEVENT
BEGIN:VEVENT
DTSTART;TZID=America/Chicago:20260626T113000
DTEND;TZID=America/Chicago:20260626T130000
DTSTAMP:20260423T192027
CREATED:20260209T220558Z
LAST-MODIFIED:20260209T220558Z
UID:5108-1782473400-1782478800@amla4tourism.com
SUMMARY:Unleash Your Workforce: The 4-Step HR Advantage
DESCRIPTION:Step 2: Coaching for Performance  \nJoin AMLA’s Director of Workforce Development Craig Johnston and dig deep into the skill of coaching to expectation and performance\, as related to specific job function and/or position. We will talk about being specific and creating effective goals with appropriate accountability measures.
URL:https://amla4tourism.com/event/unleash-your-workforce-the-4-step-hr-advantage-2/
ORGANIZER;CN="Alabama Mountain Lakes Tourist Association":MAILTO:karen@northalabama.org
END:VEVENT
BEGIN:VEVENT
DTSTART;TZID=America/Chicago:20260717T100000
DTEND;TZID=America/Chicago:20260717T110000
DTSTAMP:20260423T192027
CREATED:20260130T225027Z
LAST-MODIFIED:20260209T210912Z
UID:5077-1784282400-1784286000@amla4tourism.com
SUMMARY:Let's Talk Accessibility
DESCRIPTION:Join AMLA’s Workforce Development Director Craig Johnston for a webinar on understanding accessibility and what it looks\, sounds and/or feels like.
URL:https://amla4tourism.com/event/lets-talk-accessibility-6/
ORGANIZER;CN="Alabama Mountain Lakes Tourist Association":MAILTO:karen@northalabama.org
END:VEVENT
BEGIN:VEVENT
DTSTART;TZID=America/Chicago:20260717T113000
DTEND;TZID=America/Chicago:20260717T130000
DTSTAMP:20260423T192027
CREATED:20260209T215023Z
LAST-MODIFIED:20260209T215023Z
UID:5098-1784287800-1784293200@amla4tourism.com
SUMMARY:Key Leadership Skills Series Pt.3: Motivating the Generations
DESCRIPTION:Join AMLA’s Director of Workforce Development Craig Johnston and learn how to ignite passion and purpose through a deeper understanding of our team members and what makes them motivated based on their generation\, individual preferences\, and their personal / company goals.
URL:https://amla4tourism.com/event/key-leadership-skills-series-pt-3-motivating-the-generations/
ORGANIZER;CN="Alabama Mountain Lakes Tourist Association":MAILTO:karen@northalabama.org
END:VEVENT
BEGIN:VEVENT
DTSTART;TZID=America/Chicago:20260728T093000
DTEND;TZID=America/Chicago:20260728T133000
DTSTAMP:20260423T192027
CREATED:20260130T162917Z
LAST-MODIFIED:20260130T162917Z
UID:5013-1785231000-1785245400@amla4tourism.com
SUMMARY:Quarterly Board & Membership Meeting
DESCRIPTION:
URL:https://amla4tourism.com/event/quarterly-board-membership-meeting-9/
LOCATION:Bear Creek Collaborative\, Hodges\, Alabama
ORGANIZER;CN="Alabama Mountain Lakes Tourist Association":MAILTO:karen@northalabama.org
END:VEVENT
BEGIN:VEVENT
DTSTART;TZID=America/Chicago:20260813T100000
DTEND;TZID=America/Chicago:20260813T110000
DTSTAMP:20260423T192027
CREATED:20260130T225315Z
LAST-MODIFIED:20260209T210807Z
UID:5079-1786615200-1786618800@amla4tourism.com
SUMMARY:Let's Talk Accessibility
DESCRIPTION:Join AMLA’s Workforce Development Director Craig Johnston for a webinar on understanding accessibility and what it looks\, sounds and/or feels like.
URL:https://amla4tourism.com/event/lets-talk-accessibility-7/
ORGANIZER;CN="Alabama Mountain Lakes Tourist Association":MAILTO:karen@northalabama.org
END:VEVENT
BEGIN:VEVENT
DTSTART;TZID=America/Chicago:20260813T113000
DTEND;TZID=America/Chicago:20260813T130000
DTSTAMP:20260423T192027
CREATED:20260209T215150Z
LAST-MODIFIED:20260209T215150Z
UID:5100-1786620600-1786626000@amla4tourism.com
SUMMARY:Key Leadership Skills Series Pt.3: Motivating the Generations
DESCRIPTION:Join AMLA’s Director of Workforce Development Craig Johnston and learn how to ignite passion and purpose through a deeper understanding of our team members and what makes them motivated based on their generation\, individual preferences\, and their personal / company goals.
URL:https://amla4tourism.com/event/key-leadership-skills-series-pt-3-motivating-the-generations-2/
ORGANIZER;CN="Alabama Mountain Lakes Tourist Association":MAILTO:karen@northalabama.org
END:VEVENT
BEGIN:VEVENT
DTSTART;TZID=America/Chicago:20260818T100000
DTEND;TZID=America/Chicago:20260818T113000
DTSTAMP:20260423T192027
CREATED:20260130T223632Z
LAST-MODIFIED:20260130T223632Z
UID:5063-1787047200-1787052600@amla4tourism.com
SUMMARY:Social Media Webinar
DESCRIPTION:Join AMLA’s Social Media Manager Melea Hames for a Zoom webinar on social media trends
URL:https://amla4tourism.com/event/social-media-webinar-2/
ORGANIZER;CN="Alabama Mountain Lakes Tourist Association":MAILTO:karen@northalabama.org
END:VEVENT
BEGIN:VEVENT
DTSTART;TZID=America/Chicago:20260918T080000
DTEND;TZID=America/Chicago:20260918T170000
DTSTAMP:20260423T192027
CREATED:20260209T220944Z
LAST-MODIFIED:20260209T220944Z
UID:5110-1789718400-1789750800@amla4tourism.com
SUMMARY:Unleash Your Workforce: The 4-Step HR Advantage
DESCRIPTION:Step 3: Employee Engagement & Retention \nJoin AMLA’s Director of Workforce Development Craig Johnston where he will discuss the skill of coaching to expectation and performance\, specifically to help build career paths for team members through dedicated work\, team loyalty\, and motivational rewards and recognition.
URL:https://amla4tourism.com/event/unleash-your-workforce-the-4-step-hr-advantage-3/
ORGANIZER;CN="Alabama Mountain Lakes Tourist Association":MAILTO:karen@northalabama.org
END:VEVENT
END:VCALENDAR