BEGIN:VCALENDAR
VERSION:2.0
PRODID:-//Alabama Mountain Lakes Tourist Association - ECPv6.15.20//NONSGML v1.0//EN
CALSCALE:GREGORIAN
METHOD:PUBLISH
X-WR-CALNAME:Alabama Mountain Lakes Tourist Association
X-ORIGINAL-URL:https://amla4tourism.com
X-WR-CALDESC:Events for Alabama Mountain Lakes Tourist Association
REFRESH-INTERVAL;VALUE=DURATION:PT1H
X-Robots-Tag:noindex
X-PUBLISHED-TTL:PT1H
BEGIN:VTIMEZONE
TZID:America/Chicago
BEGIN:DAYLIGHT
TZOFFSETFROM:-0600
TZOFFSETTO:-0500
TZNAME:CDT
DTSTART:20250309T080000
END:DAYLIGHT
BEGIN:STANDARD
TZOFFSETFROM:-0500
TZOFFSETTO:-0600
TZNAME:CST
DTSTART:20251102T070000
END:STANDARD
BEGIN:DAYLIGHT
TZOFFSETFROM:-0600
TZOFFSETTO:-0500
TZNAME:CDT
DTSTART:20260308T080000
END:DAYLIGHT
BEGIN:STANDARD
TZOFFSETFROM:-0500
TZOFFSETTO:-0600
TZNAME:CST
DTSTART:20261101T070000
END:STANDARD
BEGIN:DAYLIGHT
TZOFFSETFROM:-0600
TZOFFSETTO:-0500
TZNAME:CDT
DTSTART:20270314T080000
END:DAYLIGHT
BEGIN:STANDARD
TZOFFSETFROM:-0500
TZOFFSETTO:-0600
TZNAME:CST
DTSTART:20271107T070000
END:STANDARD
END:VTIMEZONE
BEGIN:VTIMEZONE
TZID:UTC
BEGIN:STANDARD
TZOFFSETFROM:+0000
TZOFFSETTO:+0000
TZNAME:UTC
DTSTART:20230101T000000
END:STANDARD
END:VTIMEZONE
BEGIN:VEVENT
DTSTART;TZID=America/Chicago:20260407T100000
DTEND;TZID=America/Chicago:20260407T113000
DTSTAMP:20260423T174126
CREATED:20260130T223511Z
LAST-MODIFIED:20260130T223511Z
UID:5061-1775556000-1775561400@amla4tourism.com
SUMMARY:Social Media Webinar
DESCRIPTION:Join Melea Hames via zoom for a webinar on content planning and strategy
URL:https://amla4tourism.com/event/social-media-webinar/
ORGANIZER;CN="Alabama Mountain Lakes Tourist Association":MAILTO:karen@northalabama.org
END:VEVENT
BEGIN:VEVENT
DTSTART;VALUE=DATE:20260330
DTEND;VALUE=DATE:20260402
DTSTAMP:20260423T174126
CREATED:20260130T222639Z
LAST-MODIFIED:20260130T222639Z
UID:5048-1774828800-1775087999@amla4tourism.com
SUMMARY:Destination International CEO Summit
DESCRIPTION:
URL:https://amla4tourism.com/event/destination-international-ceo-summit/
LOCATION:Newport Beach\, California
END:VEVENT
BEGIN:VEVENT
DTSTART;VALUE=DATE:20260328
DTEND;VALUE=DATE:20260330
DTSTAMP:20260423T174126
CREATED:20260130T221435Z
LAST-MODIFIED:20260130T221435Z
UID:5042-1774656000-1774828799@amla4tourism.com
SUMMARY:Dallas Travel Show
DESCRIPTION:
URL:https://amla4tourism.com/event/dallas-travel-show/
LOCATION:Dallas\, Texas
END:VEVENT
BEGIN:VEVENT
DTSTART;TZID=America/Chicago:20260320T113000
DTEND;TZID=America/Chicago:20260320T130000
DTSTAMP:20260423T174126
CREATED:20260209T213258Z
LAST-MODIFIED:20260209T214732Z
UID:5092-1774006200-1774011600@amla4tourism.com
SUMMARY:Key Leadership Skills Series Pt.1: Understanding Leadership Intelligence (LI)
DESCRIPTION:During this Zoom webinar with AMLA Director of Workforce Development Craig Johnston\, learn about Emotional Intelligence (EI) and how more specifically\, focused Leadership Intelligence (LI)\, can make a complete difference in how we approach\, speak to\, and manage individual and team performance.
URL:https://amla4tourism.com/event/key-leadership-skills-series-pt-1-understanding-leadership-intelligence-li/
ORGANIZER;CN="Alabama Mountain Lakes Tourist Association":MAILTO:karen@northalabama.org
END:VEVENT
BEGIN:VEVENT
DTSTART;TZID=America/Chicago:20260318T110000
DTEND;TZID=America/Chicago:20260318T140000
DTSTAMP:20260423T174126
CREATED:20260130T220327Z
LAST-MODIFIED:20260130T220327Z
UID:5029-1773831600-1773842400@amla4tourism.com
SUMMARY:Legislative Picnic
DESCRIPTION:
URL:https://amla4tourism.com/event/legislative-picnic-2/
LOCATION:Alabama State Capitol\, Montgomery\, AL
ORGANIZER;CN="Alabama Mountain Lakes Tourist Association":MAILTO:karen@northalabama.org
END:VEVENT
BEGIN:VEVENT
DTSTART;TZID=America/Chicago:20260313T100000
DTEND;TZID=America/Chicago:20260313T110000
DTSTAMP:20260423T174126
CREATED:20260130T224305Z
LAST-MODIFIED:20260130T224305Z
UID:5069-1773396000-1773399600@amla4tourism.com
SUMMARY:Let's Talk Accessibility
DESCRIPTION:Join AMLA’s Workforce Development Director Craig Johnston for a webinar on understanding accessibility and what it looks\, sounds and/or feels like.
URL:https://amla4tourism.com/event/lets-talk-accessibility-2/
ORGANIZER;CN="Alabama Mountain Lakes Tourist Association":MAILTO:karen@northalabama.org
END:VEVENT
BEGIN:VEVENT
DTSTART;VALUE=DATE:20260310
DTEND;VALUE=DATE:20260312
DTSTAMP:20260423T174126
CREATED:20260130T222738Z
LAST-MODIFIED:20260209T211159Z
UID:5051-1773100800-1773273599@amla4tourism.com
SUMMARY:Alabama Tourism Bash & State Meeting
DESCRIPTION:
URL:https://amla4tourism.com/event/alabama-tourism-bash-state-meeting/
LOCATION:Montgomery\, AL\, 36104\, United States
END:VEVENT
BEGIN:VEVENT
DTSTART;VALUE=DATE:20260309
DTEND;VALUE=DATE:20260311
DTSTAMP:20260423T174126
CREATED:20260130T220945Z
LAST-MODIFIED:20260130T220945Z
UID:5034-1773014400-1773187199@amla4tourism.com
SUMMARY:DIY Learn Tourism Conference
DESCRIPTION:
URL:https://amla4tourism.com/event/diy-learn-tourism-conference/
LOCATION:Richmond\, Virginia
END:VEVENT
BEGIN:VEVENT
DTSTART;VALUE=DATE:20260305
DTEND;VALUE=DATE:20260308
DTSTAMP:20260423T174126
CREATED:20260130T220838Z
LAST-MODIFIED:20260130T220838Z
UID:5031-1772668800-1772927999@amla4tourism.com
SUMMARY:George Lindsey Film Festival
DESCRIPTION:
URL:https://amla4tourism.com/event/george-lindsey-film-festival/
LOCATION:University of North Alabama\, Florence\, Alabama
END:VEVENT
BEGIN:VEVENT
DTSTART;VALUE=DATE:20260223
DTEND;VALUE=DATE:20260228
DTSTAMP:20260423T174126
CREATED:20260130T220157Z
LAST-MODIFIED:20260130T220157Z
UID:5026-1771804800-1772236799@amla4tourism.com
SUMMARY:HCI Peer Group Conference
DESCRIPTION:
URL:https://amla4tourism.com/event/hci-peer-group-conference/
LOCATION:Virginia Beach\, Virginia\, Virginia Beach\, Virginia
END:VEVENT
BEGIN:VEVENT
DTSTART;VALUE=DATE:20260220
DTEND;VALUE=DATE:20260302
DTSTAMP:20260423T174126
CREATED:20260130T215850Z
LAST-MODIFIED:20260130T215850Z
UID:5024-1771545600-1772409599@amla4tourism.com
SUMMARY:Indianapolis Boat\, Sport & Travel Show
DESCRIPTION:
URL:https://amla4tourism.com/event/indianapolis-boat-sport-travel-show/
END:VEVENT
BEGIN:VEVENT
DTSTART;TZID=America/Chicago:20260219T113000
DTEND;TZID=America/Chicago:20260219T130000
DTSTAMP:20260423T174126
CREATED:20260209T220406Z
LAST-MODIFIED:20260209T220406Z
UID:5106-1771500600-1771506000@amla4tourism.com
SUMMARY:Unleash Your Workforce: The 4-Step HR Advantage
DESCRIPTION:Step 1: Effective Hiring Practices  \nJoin AMLA’s Director of Workforce Development Craig Johnston and learn about ways to effectively source\, interview\, and prepare new workers for our team. We will discuss how to build a resourceful workforce pipeline and talk about effective behavioral interviewing skills.
URL:https://amla4tourism.com/event/unleash-your-workforce-the-4-step-hr-advantage/
ORGANIZER;CN="Alabama Mountain Lakes Tourist Association":MAILTO:karen@northalabama.org
END:VEVENT
BEGIN:VEVENT
DTSTART;TZID=America/Chicago:20260219T100000
DTEND;TZID=America/Chicago:20260219T110000
DTSTAMP:20260423T174126
CREATED:20260130T223942Z
LAST-MODIFIED:20260130T223942Z
UID:5067-1771495200-1771498800@amla4tourism.com
SUMMARY:Let's Talk Accessibility
DESCRIPTION:Join AMLA’s Workforce Development Director Craig Johnston for a webinar on understanding accessibility and what it looks\, sounds and/or feels like.
URL:https://amla4tourism.com/event/lets-talk-accessibility/
ORGANIZER;CN="Alabama Mountain Lakes Tourist Association":MAILTO:karen@northalabama.org
END:VEVENT
BEGIN:VEVENT
DTSTART;VALUE=DATE:20260218
DTEND;VALUE=DATE:20260219
DTSTAMP:20260423T174126
CREATED:20260130T222825Z
LAST-MODIFIED:20260130T222825Z
UID:5053-1771372800-1771459199@amla4tourism.com
SUMMARY:Annual Autism Conference
DESCRIPTION:
URL:https://amla4tourism.com/event/annual-autism-conference/
LOCATION:The Venue at Coosa Landing\, 201 George Wallace Drive\, Gadsden\, AL\, 35903\, United States
END:VEVENT
BEGIN:VEVENT
DTSTART;TZID=America/Chicago:20260211T100000
DTEND;TZID=America/Chicago:20260211T140000
DTSTAMP:20260423T174126
CREATED:20260130T164019Z
LAST-MODIFIED:20260130T164020Z
UID:5018-1770804000-1770818400@amla4tourism.com
SUMMARY:Storytelling and AI in Action
DESCRIPTION:Learn how to win hearts and minds through storytelling and AI. This interactive workshop will be led by AMLA’s Randa Hovater who will present A Match Made in Marketing: How AI Sparks Destination Experiences and Emily Gonzales of Madden Media who will show how tools like AI can help you refine\, amplify and share your destination’s story. Please RSVP to tami@northalabama.org by February 9\, 2026. Lunch is included.
URL:https://amla4tourism.com/event/storytelling-and-ai-in-action/
LOCATION:Decatur/Morgan County Tourism\, 350 Market Street\, Decatur\, Alabama\, 35601
ORGANIZER;CN="Alabama Mountain Lakes Tourist Association":MAILTO:karen@northalabama.org
END:VEVENT
BEGIN:VEVENT
DTSTART;TZID=UTC:20251120T113000
DTEND;TZID=UTC:20251120T130000
DTSTAMP:20260423T174126
CREATED:20241010T224411Z
LAST-MODIFIED:20260130T163309Z
UID:4724-1763638200-1763643600@amla4tourism.com
SUMMARY:Virtual Lunch & Learn
DESCRIPTION:Grab lunch and join AMLA’s Craig Johnston for Leadership Skills Part 4: Fun Meetings & Huddles
URL:https://amla4tourism.com/event/virtual-lunch-learn-5/
END:VEVENT
BEGIN:VEVENT
DTSTART;TZID=UTC:20251112T100000
DTEND;TZID=UTC:20251112T113000
DTSTAMP:20260423T174126
CREATED:20241010T225059Z
LAST-MODIFIED:20241010T225059Z
UID:4734-1762941600-1762947000@amla4tourism.com
SUMMARY:Social Media Virtual Seminar
DESCRIPTION:Join AMLA’s Melea Hames and Leslie Walker for a deeper dive into AI.
URL:https://amla4tourism.com/event/social-media-virtual-seminar-2/
END:VEVENT
BEGIN:VEVENT
DTSTART;TZID=UTC:20250918T080000
DTEND;TZID=UTC:20250918T170000
DTSTAMP:20260423T174126
CREATED:20241010T223729Z
LAST-MODIFIED:20241010T223729Z
UID:4712-1758182400-1758214800@amla4tourism.com
SUMMARY:Annual Meeting
DESCRIPTION:
URL:https://amla4tourism.com/event/annual-meeting-2/
LOCATION:Downtown Civic Center\, Gadsden\, Alabama
END:VEVENT
BEGIN:VEVENT
DTSTART;TZID=UTC:20250827T100000
DTEND;TZID=UTC:20250827T113000
DTSTAMP:20260423T174126
CREATED:20241010T224830Z
LAST-MODIFIED:20241010T224830Z
UID:4730-1756288800-1756294200@amla4tourism.com
SUMMARY:Social Media Virtual Seminar
DESCRIPTION:Join AMLA’s Melea Hames and Front Porch Media’s Eva Faircloth for a session on working with influencers.
URL:https://amla4tourism.com/event/social-media-virtual-seminar/
END:VEVENT
BEGIN:VEVENT
DTSTART;TZID=UTC:20250814T113000
DTEND;TZID=UTC:20250814T130000
DTSTAMP:20260423T174126
CREATED:20241010T224310Z
LAST-MODIFIED:20241010T224310Z
UID:4722-1755171000-1755176400@amla4tourism.com
SUMMARY:Virtual Lunch & Learn
DESCRIPTION:Grab lunch and join AMLA’s Craig Johnston for Leadership Skills Part 3: Motivating the Generations
URL:https://amla4tourism.com/event/virtual-lunch-learn-4/
END:VEVENT
BEGIN:VEVENT
DTSTART;TZID=UTC:20250722T090000
DTEND;TZID=UTC:20250722T150000
DTSTAMP:20260423T174126
CREATED:20241010T223626Z
LAST-MODIFIED:20241010T223626Z
UID:4709-1753174800-1753196400@amla4tourism.com
SUMMARY:Quarterly Board & Membership Meeting
DESCRIPTION:
URL:https://amla4tourism.com/event/quarterly-board-membership-meeting-7/
LOCATION:The Logan Room\, Sheffield\, Alabama
END:VEVENT
BEGIN:VEVENT
DTSTART;TZID=UTC:20250626T113000
DTEND;TZID=UTC:20250626T130000
DTSTAMP:20260423T174126
CREATED:20241010T224135Z
LAST-MODIFIED:20241010T224135Z
UID:4720-1750937400-1750942800@amla4tourism.com
SUMMARY:Virtual Lunch & Learn
DESCRIPTION:Grab lunch and join AMLA’s Craig Johnston for Leadership Skills Part 2: Coaching with Intelligence
URL:https://amla4tourism.com/event/virtual-lunch-learn-3/
END:VEVENT
BEGIN:VEVENT
DTSTART;TZID=UTC:20250623T090000
DTEND;TZID=UTC:20250623T093000
DTSTAMP:20260423T174126
CREATED:20250528T013902Z
LAST-MODIFIED:20250528T013902Z
UID:4897-1750669200-1750671000@amla4tourism.com
SUMMARY:Let's Talk Accessibility Training
DESCRIPTION:A short and sweet guide to understanding accessibility and what it looks like\, feels like and/or sounds like. Free for AMLA members.
URL:https://amla4tourism.com/event/lets-talk-accessibility-training/
LOCATION:AC Hotel\, 435 Williams Avenue\, Huntsville\, AL\, 35801\, United States
ORGANIZER;CN="Alabama Mountain Lakes Tourist Association":MAILTO:karen@northalabama.org
END:VEVENT
BEGIN:VEVENT
DTSTART;TZID=UTC:20250513T080000
DTEND;TZID=UTC:20250513T170000
DTSTAMP:20260423T174126
CREATED:20241010T223824Z
LAST-MODIFIED:20241010T223824Z
UID:4715-1747123200-1747155600@amla4tourism.com
SUMMARY:Educational Seminar
DESCRIPTION:
URL:https://amla4tourism.com/event/educational-seminar/
LOCATION:Priceville Event Center\, Priceville\, Alabama
END:VEVENT
BEGIN:VEVENT
DTSTART;TZID=UTC:20250429T090000
DTEND;TZID=UTC:20250429T150000
DTSTAMP:20260423T174126
CREATED:20241010T223533Z
LAST-MODIFIED:20241010T223533Z
UID:4706-1745917200-1745938800@amla4tourism.com
SUMMARY:Quarterly Board & Membership Meeting
DESCRIPTION:
URL:https://amla4tourism.com/event/quarterly-board-membership-meeting-6/
LOCATION:The Old Greenhouse\, Arab\, Alabama
END:VEVENT
BEGIN:VEVENT
DTSTART;TZID=UTC:20250423T100000
DTEND;TZID=UTC:20250423T113000
DTSTAMP:20260423T174126
CREATED:20241010T224718Z
LAST-MODIFIED:20241010T224959Z
UID:4728-1745402400-1745407800@amla4tourism.com
SUMMARY:Social Media Virtual Seminar
DESCRIPTION:Join AMLA’s Melea Hames and Kelsey Ogletree\, founder of Pitchcraft for a presentation on community and collaboration with writers.
URL:https://amla4tourism.com/event/social-media-virtual-meetings-2/
END:VEVENT
BEGIN:VEVENT
DTSTART;TZID=UTC:20250313T113000
DTEND;TZID=UTC:20250313T130000
DTSTAMP:20260423T174126
CREATED:20241010T224035Z
LAST-MODIFIED:20241010T224035Z
UID:4718-1741865400-1741870800@amla4tourism.com
SUMMARY:Virtual Lunch & Learn
DESCRIPTION:Grab lunch and join AMLA’s Craig Johnston for Leadership Skills Part 1: Understanding Emotional Intelligence
URL:https://amla4tourism.com/event/virtual-lunch-learn-2/
END:VEVENT
BEGIN:VEVENT
DTSTART;TZID=UTC:20250129T100000
DTEND;TZID=UTC:20250129T113000
DTSTAMP:20260423T174126
CREATED:20241010T224553Z
LAST-MODIFIED:20250128T234543Z
UID:4726-1738144800-1738150200@amla4tourism.com
SUMMARY:Social Media Virtual Seminar
DESCRIPTION:Join AMLA’s Melea Hames and Crowdriff’s Katrina Keilauer for social trends for 2025
URL:https://amla4tourism.com/event/social-media-virtual-meetings/
END:VEVENT
BEGIN:VEVENT
DTSTART;TZID=UTC:20250121T090000
DTEND;TZID=UTC:20250121T150000
DTSTAMP:20260423T174126
CREATED:20241010T223429Z
LAST-MODIFIED:20241010T223429Z
UID:4704-1737450000-1737471600@amla4tourism.com
SUMMARY:Quarterly Board & Membership Meeting
DESCRIPTION:
URL:https://amla4tourism.com/event/quarterly-board-membership-meeting-5/
LOCATION:Holiday Inn\, Guin\, Alabama
END:VEVENT
BEGIN:VEVENT
DTSTART;TZID=UTC:20241212T080000
DTEND;TZID=UTC:20241212T170000
DTSTAMP:20260423T174126
CREATED:20241010T223247Z
LAST-MODIFIED:20241010T223247Z
UID:4701-1733990400-1734022800@amla4tourism.com
SUMMARY:Committee of 16 (Invitation Only)
DESCRIPTION:
URL:https://amla4tourism.com/event/committee-of-16-invitation-only/
LOCATION:The Venue at Oak Place\, Huntsville\, Alabama
ORGANIZER;CN="Alabama Mountain Lakes Tourist Association":MAILTO:karen@northalabama.org
END:VEVENT
END:VCALENDAR